BEGIN:VCALENDAR
VERSION:2.0
PRODID:-//U3A Port Adelaide - ECPv4.6.9//NONSGML v1.0//EN
CALSCALE:GREGORIAN
METHOD:PUBLISH
X-WR-CALNAME:U3A Port Adelaide
X-ORIGINAL-URL:http://u3aportadelaide.org.au
X-WR-CALDESC:Events for U3A Port Adelaide
BEGIN:VEVENT
DTSTART;TZID=UTC+0:20210701T103000
DTEND;TZID=UTC+0:20210701T120000
DTSTAMP:20210227T170949
CREATED:20210219T112023Z
LAST-MODIFIED:20210219T112023Z
UID:933-1625135400-1625140800@u3aportadelaide.org.au
SUMMARY:Taiwan - Small Country\, big surprises
DESCRIPTION:
URL:http://u3aportadelaide.org.au/event/taiwan-small-country-big-surprises/
LOCATION:253 Military Rd Semaphore\, Adelaide\, SA\, 5019\, Australia
END:VEVENT
END:VCALENDAR