BEGIN:VCALENDAR
VERSION:2.0
PRODID:-//U3A Port Adelaide - ECPv4.6.9//NONSGML v1.0//EN
CALSCALE:GREGORIAN
METHOD:PUBLISH
X-WR-CALNAME:U3A Port Adelaide
X-ORIGINAL-URL:http://u3aportadelaide.org.au
X-WR-CALDESC:Events for U3A Port Adelaide
BEGIN:VEVENT
DTSTART;TZID=UTC+0:20210513T103000
DTEND;TZID=UTC+0:20210513T120000
DTSTAMP:20210227T170621
CREATED:20210219T105636Z
LAST-MODIFIED:20210219T111103Z
UID:919-1620901800-1620907200@u3aportadelaide.org.au
SUMMARY:Tales from the Anglo-Boer War
DESCRIPTION:
URL:http://u3aportadelaide.org.au/event/tales-from-the-anglo-boer-war/
LOCATION:253 Military Rd Semaphore\, Adelaide\, SA\, 5019\, Australia
ORGANIZER;CN="Port%20Adelaide%20U3A":MAILTO:jasocon@bigpond.com
END:VEVENT
END:VCALENDAR