BEGIN:VCALENDAR
VERSION:2.0
PRODID:-//U3A Port Adelaide - ECPv4.6.9//NONSGML v1.0//EN
CALSCALE:GREGORIAN
METHOD:PUBLISH
X-WR-CALNAME:U3A Port Adelaide
X-ORIGINAL-URL:http://u3aportadelaide.org.au
X-WR-CALDESC:Events for U3A Port Adelaide
BEGIN:VEVENT
DTSTART;TZID=UTC+0:20210506T103000
DTEND;TZID=UTC+0:20210506T120000
DTSTAMP:20210227T171524
CREATED:20210219T105336Z
LAST-MODIFIED:20210219T113110Z
UID:917-1620297000-1620302400@u3aportadelaide.org.au
SUMMARY:A History of Magic and magicians
DESCRIPTION:
URL:http://u3aportadelaide.org.au/event/a-history-of-magic-and-magicians/
LOCATION:253 Military Rd Semaphore\, Adelaide\, SA\, 5019\, Australia
ORGANIZER;CN="Port%20Adelaide%20U3A":MAILTO:jasocon@bigpond.com
END:VEVENT
END:VCALENDAR