BEGIN:VCALENDAR
VERSION:2.0
PRODID:-//U3A Port Adelaide - ECPv4.6.9//NONSGML v1.0//EN
CALSCALE:GREGORIAN
METHOD:PUBLISH
X-WR-CALNAME:U3A Port Adelaide
X-ORIGINAL-URL:http://u3aportadelaide.org.au
X-WR-CALDESC:Events for U3A Port Adelaide
BEGIN:VEVENT
DTSTART;TZID=UTC+0:20210429T103000
DTEND;TZID=UTC+0:20210429T120000
DTSTAMP:20210227T164611
CREATED:20210219T104918Z
LAST-MODIFIED:20210219T104918Z
UID:915-1619692200-1619697600@u3aportadelaide.org.au
SUMMARY:Parkinson's disease
DESCRIPTION:
URL:http://u3aportadelaide.org.au/event/parkinsons-disease/
LOCATION:253 Military Rd Semaphore\, Adelaide\, SA\, 5019\, Australia
ORGANIZER;CN="Port%20Adelaide%20U3A":MAILTO:jasocon@bigpond.com
END:VEVENT
BEGIN:VEVENT
DTSTART;TZID=UTC+0:20210506T103000
DTEND;TZID=UTC+0:20210506T120000
DTSTAMP:20210227T164611
CREATED:20210219T105336Z
LAST-MODIFIED:20210219T113110Z
UID:917-1620297000-1620302400@u3aportadelaide.org.au
SUMMARY:A History of Magic and magicians
DESCRIPTION:
URL:http://u3aportadelaide.org.au/event/a-history-of-magic-and-magicians/
LOCATION:253 Military Rd Semaphore\, Adelaide\, SA\, 5019\, Australia
ORGANIZER;CN="Port%20Adelaide%20U3A":MAILTO:jasocon@bigpond.com
END:VEVENT
BEGIN:VEVENT
DTSTART;TZID=UTC+0:20210513T103000
DTEND;TZID=UTC+0:20210513T120000
DTSTAMP:20210227T164611
CREATED:20210219T105636Z
LAST-MODIFIED:20210219T111103Z
UID:919-1620901800-1620907200@u3aportadelaide.org.au
SUMMARY:Tales from the Anglo-Boer War
DESCRIPTION:
URL:http://u3aportadelaide.org.au/event/tales-from-the-anglo-boer-war/
LOCATION:253 Military Rd Semaphore\, Adelaide\, SA\, 5019\, Australia
ORGANIZER;CN="Port%20Adelaide%20U3A":MAILTO:jasocon@bigpond.com
END:VEVENT
BEGIN:VEVENT
DTSTART;TZID=UTC+0:20210527T103000
DTEND;TZID=UTC+0:20210527T120000
DTSTAMP:20210227T164611
CREATED:20210219T110817Z
LAST-MODIFIED:20210219T110817Z
UID:923-1622111400-1622116800@u3aportadelaide.org.au
SUMMARY:Did the prophet Mohammad actually exist?
DESCRIPTION:
URL:http://u3aportadelaide.org.au/event/did-the-prophet-mohammad-actually-exist/
LOCATION:253 Military Rd Semaphore\, Adelaide\, SA\, 5019\, Australia
ORGANIZER;CN="Port%20Adelaide%20U3A":MAILTO:jasocon@bigpond.com
END:VEVENT
BEGIN:VEVENT
DTSTART;TZID=UTC+0:20210603T103000
DTEND;TZID=UTC+0:20210603T120000
DTSTAMP:20210227T164611
CREATED:20210219T111302Z
LAST-MODIFIED:20210219T111302Z
UID:925-1622716200-1622721600@u3aportadelaide.org.au
SUMMARY:Interactive session
DESCRIPTION:To be advised \n
URL:http://u3aportadelaide.org.au/event/interactive-session/
LOCATION:253 Military Rd Semaphore\, Adelaide\, SA\, 5019\, Australia
ORGANIZER;CN="Port%20Adelaide%20U3A":MAILTO:jasocon@bigpond.com
END:VEVENT
BEGIN:VEVENT
DTSTART;TZID=UTC+0:20210610T103000
DTEND;TZID=UTC+0:20210610T120000
DTSTAMP:20210227T164611
CREATED:20210219T111448Z
LAST-MODIFIED:20210219T111448Z
UID:927-1623321000-1623326400@u3aportadelaide.org.au
SUMMARY:Curious recollections - Life in the Curiosity Show
DESCRIPTION:
URL:http://u3aportadelaide.org.au/event/curious-recollections-life-in-the-curiosity-show/
LOCATION:253 Military Rd Semaphore\, Adelaide\, SA\, 5019\, Australia
ORGANIZER;CN="Port%20Adelaide%20U3A":MAILTO:jasocon@bigpond.com
END:VEVENT
BEGIN:VEVENT
DTSTART;TZID=UTC+0:20210617T103000
DTEND;TZID=UTC+0:20210617T120000
DTSTAMP:20210227T164611
CREATED:20210219T111628Z
LAST-MODIFIED:20210219T111628Z
UID:929-1623925800-1623931200@u3aportadelaide.org.au
SUMMARY:To be advised
DESCRIPTION:
URL:http://u3aportadelaide.org.au/event/to-be-advised/
LOCATION:253 Military Rd Semaphore\, Adelaide\, SA\, 5019\, Australia
ORGANIZER;CN="Port%20Adelaide%20U3A":MAILTO:jasocon@bigpond.com
END:VEVENT
BEGIN:VEVENT
DTSTART;TZID=UTC+0:20210624T103000
DTEND;TZID=UTC+0:20210624T120000
DTSTAMP:20210227T164611
CREATED:20210219T111848Z
LAST-MODIFIED:20210219T111848Z
UID:931-1624530600-1624536000@u3aportadelaide.org.au
SUMMARY:Interactive Session
DESCRIPTION:
URL:http://u3aportadelaide.org.au/event/interactive-session-2/
LOCATION:253 Military Rd Semaphore\, Adelaide\, SA\, 5019\, Australia
ORGANIZER;CN="Port%20Adelaide%20U3A":MAILTO:jasocon@bigpond.com
END:VEVENT
BEGIN:VEVENT
DTSTART;TZID=UTC+0:20210701T103000
DTEND;TZID=UTC+0:20210701T120000
DTSTAMP:20210227T164611
CREATED:20210219T112023Z
LAST-MODIFIED:20210219T112023Z
UID:933-1625135400-1625140800@u3aportadelaide.org.au
SUMMARY:Taiwan - Small Country\, big surprises
DESCRIPTION:
URL:http://u3aportadelaide.org.au/event/taiwan-small-country-big-surprises/
LOCATION:253 Military Rd Semaphore\, Adelaide\, SA\, 5019\, Australia
END:VEVENT
END:VCALENDAR